BEGIN:VCALENDAR
VERSION:2.0
PRODID:-//eventon.com NONSGML v1.0//EN
CALSCALE:GREGORIAN
METHOD:PUBLISH
BEGIN:VEVENT
UID:69e601286c784
DTSTAMP:20260420T103416Z
DTSTART:20251112T210000Z
DTEND:20251112T220000Z
LOCATION:
SUMMARY:Azara Quarterly User Group Meeting
DESCRIPTION:APCA Azara User Group members are invited to attend the quarter
  two meeting. Please join us here!\nhttps://alaskapca.org/events/azara-quar
 terly-user-group-deep-dive/
URL:https://alaskapca.org/events/azara-quarterly-user-group-deep-dive/
END:VEVENT
END:VCALENDAR