BEGIN:VCALENDAR
VERSION:2.0
PRODID:-//eventon.com NONSGML v1.0//EN
CALSCALE:GREGORIAN
METHOD:PUBLISH
BEGIN:VEVENT
UID:69e7309fb9f44
DTSTAMP:20260421T080903Z
DTSTART:20251216T210000Z
DTEND:20251216T220000Z
LOCATION:
SUMMARY:Webinar: The Impact of Recognition and Feedback on Retention and Culture
DESCRIPTION:Alaska&#8217;s Community Health Center staff are invited to joi
 n APCA for a virtual webinar with Scharla Baker to explore how recognition 
 and feedback can shape organizational culture and strengthen employee reten
 tion. Learn practical strategies for fostering appreciation\,  providing me
 aningful feedback\,  and creating connections that keep teams engaged and m
 otivated. Interested[..]\nhttps://alaskapca.org/events/the-impact-of-recogn
 ition-and-feedback-on-retention-and-culture/
URL:https://alaskapca.org/events/the-impact-of-recognition-and-feedback-on-retention-and-culture/
END:VEVENT
END:VCALENDAR