BEGIN:VCALENDAR
VERSION:2.0
PRODID:-//eventon.com NONSGML v1.0//EN
CALSCALE:GREGORIAN
METHOD:PUBLISH
BEGIN:VEVENT
UID:69e7496f88c10
DTSTAMP:20260421T095455Z
DTSTART:20240805T170000Z
DTEND:20240817T000000Z
LOCATION:Kenai Peninsula College Campus\,  MAPTS Office Building 162 College Road\,  Building #KP107
SUMMARY:Kenai PATH Training
DESCRIPTION:MONDAY-FRIDAY\,  9 AM &#8211; 4 PM Jumpstart Your Healthcare Ca
 reer with FREE Training in the Kenai Area Join us for a free\,  two-week PA
 TH Training to become CPR certified\,  receive mental health first aid trai
 ning\,  gain job readiness skills\,  and learn about employment opportuniti
 es close to you. Questions? Please contact our recruiting[..]\nhttps://al
 askapca.org/events/kenai-path-academy/
URL:https://alaskapca.org/events/kenai-path-academy/
END:VEVENT
END:VCALENDAR