BEGIN:VCALENDAR
VERSION:2.0
PRODID:-//eventon.com NONSGML v1.0//EN
CALSCALE:GREGORIAN
METHOD:PUBLISH
BEGIN:VEVENT
UID:69e733ae02668
DTSTAMP:20260421T082206Z
DTSTART:20250217
DTEND:20250218
LOCATION:
SUMMARY:Legislative Juneau Fly-In
DESCRIPTION:The 2025 Legislative Juneau Fly-In for Alaska Community Health
  Centers will be held in Juneau on Monday-Wednesday\,  Feb. 17-19. More inf
 ormation to come.\nhttps://alaskapca.org/events/legislative-juneau-fly-in/
URL:https://alaskapca.org/events/legislative-juneau-fly-in/
END:VEVENT
END:VCALENDAR