BEGIN:VCALENDAR
VERSION:2.0
PRODID:-//eventon.com NONSGML v1.0//EN
CALSCALE:GREGORIAN
METHOD:PUBLISH
BEGIN:VEVENT
UID:69e53c0a8de9a
DTSTAMP:20260419T203314Z
DTSTART:20251208T180000Z
DTEND:20251220T010000Z
LOCATION:
SUMMARY:Hybrid Pre-Apprenticeship Training in Healthcare (PATH)
DESCRIPTION:Are you ready to make a difference in your community and build 
 a career in healthcare? APCA&#8217;s Pre-Apprenticeship Training in Healthc
 are (PATH) is a free\,  two-week program for Alaskans ages 18 and older who
  want to explore healthcare careers\,  gain hands-on experience\,  and prep
 are for future training or employment. When:[..]\nhttps://alaskapca.org/eve
 nts/december-path-academy/
URL:https://alaskapca.org/events/december-path-academy/
END:VEVENT
END:VCALENDAR